BEGIN:VCALENDAR
VERSION:2.0
PRODID:-//hacksw/handcal//NONSGML, Inc//iCal 1.0//EN
METHOD:PUBLISH
X-WR-CALNAME;VALUE=TEXT:TARADALE MINERAL SPRINGS FESTIVAL
BEGIN:VEVENT
DTSTART:20190310T100000Z
DTEND:20190310T160000Z
SUMMARY:Great local festival with fabulous music and local food
LOCATION:Mineral Springs Reserve, Taradale
BEGIN:VALARM
TRIGGER;VALUE=DURATION:-PT1H
ACTION:DISPLAY
DESCRIPTION:Event reminder
END:VALARM
END:VEVENT
END:VCALENDAR
