BEGIN:VCALENDAR
VERSION:2.0
PRODID:-//hacksw/handcal//NONSGML, Inc//iCal 1.0//EN
METHOD:PUBLISH
X-WR-CALNAME;VALUE=TEXT:STEAMPACKET7 
BEGIN:VEVENT
DTSTART:20190302T183000Z
DTEND:20190302T221500Z
SUMMARY:Blues Brothers
LOCATION:Maldon Railway Station
BEGIN:VALARM
TRIGGER;VALUE=DURATION:-PT1H
ACTION:DISPLAY
DESCRIPTION:Event reminder
END:VALARM
END:VEVENT
END:VCALENDAR
