BEGIN:VCALENDAR
VERSION:2.0
PRODID:-//hacksw/handcal//NONSGML, Inc//iCal 1.0//EN
METHOD:PUBLISH
X-WR-CALNAME;VALUE=TEXT:JAMES ELLIS AND THE JEALOUS GUYS
BEGIN:VEVENT
DTSTART:20190302T200000Z
DTEND:20190302T233000Z
SUMMARY:Honky tonk tunes and two-step lessons
LOCATION:The Bridge Hotel
BEGIN:VALARM
TRIGGER;VALUE=DURATION:-PT1H
ACTION:DISPLAY
DESCRIPTION:Event reminder
END:VALARM
END:VEVENT
END:VCALENDAR
