BEGIN:VCALENDAR
VERSION:2.0
PRODID:-//hacksw/handcal//NONSGML, Inc//iCal 1.0//EN
METHOD:PUBLISH
X-WR-CALNAME;VALUE=TEXT:CHRIS NORMAN, JOHN CARTY, RENNIE PEARSON 
BEGIN:VEVENT
DTSTART:20190307T193000Z
DTEND:20190324T220000Z
SUMMARY:The best of Traditional Irish &amp; Maritime Canadian music returns to Castlemaine by popular demand
LOCATION:Castlemaine Anglican Church
BEGIN:VALARM
TRIGGER;VALUE=DURATION:-PT1H
ACTION:DISPLAY
DESCRIPTION:Event reminder
END:VALARM
END:VEVENT
END:VCALENDAR
