BEGIN:VCALENDAR
VERSION:2.0
PRODID:-//hacksw/handcal//NONSGML, Inc//iCal 1.0//EN
METHOD:PUBLISH
X-WR-CALNAME;VALUE=TEXT:CASTLEMAINE FRINGE FESTIVAL 2019
BEGIN:VEVENT
DTSTART:20190315T000000Z
DTEND:20190331T000000Z
SUMMARY:Take a bite....
LOCATION:Castlemaine
BEGIN:VALARM
TRIGGER;VALUE=DURATION:-PT1H
ACTION:DISPLAY
DESCRIPTION:Event reminder
END:VALARM
END:VEVENT
END:VCALENDAR
