BEGIN:VCALENDAR
VERSION:2.0
PRODID:-//hacksw/handcal//NONSGML, Inc//iCal 1.0//EN
METHOD:PUBLISH
X-WR-CALNAME;VALUE=TEXT:CASTLEMAINE FRINGE 2019 FUNDRAISER
BEGIN:VEVENT
DTSTART:20190202T170000Z
DTEND:20190202T000000Z
SUMMARY:Art Auction Fundraiser
LOCATION:The Taproom at the Mill
BEGIN:VALARM
TRIGGER;VALUE=DURATION:-PT1H
ACTION:DISPLAY
DESCRIPTION:Event reminder
END:VALARM
END:VEVENT
END:VCALENDAR
