BEGIN:VCALENDAR
VERSION:2.0
PRODID:-//hacksw/handcal//NONSGML, Inc//iCal 1.0//EN
METHOD:PUBLISH
X-WR-CALNAME;VALUE=TEXT:ANNUAL HARCOURT APPLEFEST 2019
BEGIN:VEVENT
DTSTART:20190309T090000Z
DTEND:20190309T170000Z
SUMMARY:Festival, market and carnival 
LOCATION:Stanley Park, Harcourt
BEGIN:VALARM
TRIGGER;VALUE=DURATION:-PT1H
ACTION:DISPLAY
DESCRIPTION:Event reminder
END:VALARM
END:VEVENT
END:VCALENDAR
